BEGIN:VCALENDAR
VERSION:2.0
PRODID:-//Contratero//ES
CALSCALE:GREGORIAN
METHOD:PUBLISH
BEGIN:VEVENT
UID:LIC_000004/2026@contratero.es
DTSTAMP:20260420T103339Z
DTSTART:20260306T235959
DTEND:20260307T005959
SUMMARY:Cierre: Adquisició o renovació de llicències d’eines propi
DESCRIPTION:Adquisició o renovació de llicències d’eines propietàries relatives a entorns CAD\, SIG\, BIM\, àmbits de treball molt habituals en departaments d’urbanisme de les AALL de Menorca. En concret: Llicències...\\n\\nOrganismo: Consejería Delegada de Servicios Informáticos Local de Menorca\, S.A.\\n\\nVer en Contratero: https://contratero.es/contracts/LIC_000004/2026
URL:https://contratero.es/contracts/LIC_000004/2026
STATUS:CONFIRMED
BEGIN:VALARM
TRIGGER:-P1D
ACTION:DISPLAY
DESCRIPTION:Recordatorio: Adquisició o renovació de llic
END:VALARM
END:VEVENT
END:VCALENDAR