BEGIN:VCALENDAR
VERSION:2.0
PRODID:-//Contratero//ES
CALSCALE:GREGORIAN
METHOD:PUBLISH
BEGIN:VEVENT
UID:LIC_000011/2025@contratero.es
DTSTAMP:20260419T233548Z
DTSTART:20251030T235959
DTEND:20251031T005959
SUMMARY:Cierre: Servicio de provisión de acceso a internet corpora
DESCRIPTION:Servicio de provisión de acceso a internet corporativo con alta disponibilidad y gestión de enrutamiento BGP mediante equipos suministrados y mantenidos por el operador.\\n\\nOrganismo: Consejería Delegada de Servicios Informáticos Local de Menorca\, S.A.\\n\\nVer en Contratero: https://contratero.es/contracts/LIC_000011/2025
URL:https://contratero.es/contracts/LIC_000011/2025
STATUS:CONFIRMED
BEGIN:VALARM
TRIGGER:-P1D
ACTION:DISPLAY
DESCRIPTION:Recordatorio: Servicio de provisión de acces
END:VALARM
END:VEVENT
END:VCALENDAR