BEGIN:VCALENDAR
VERSION:2.0
PRODID:-//Contratero//ES
CALSCALE:GREGORIAN
METHOD:PUBLISH
BEGIN:VEVENT
UID:LIC_00002/2024@contratero.es
DTSTAMP:20260422T143928Z
DTSTART:20240425T235959
DTEND:20240426T005959
SUMMARY:Cierre: Solución unificada de servicio de NAS y Backup con
DESCRIPTION:Solución unificada de servicio de NAS y Backup con réplica entre sedes en el marco del plan de recuperación\, transformación y resiliencia (financiado por la UE- Next Generation EU)\\n\\nOrganismo: Consejería Delegada de Servicios Informáticos Local de Menorca\, S.A.\\n\\nVer en Contratero: https://contratero.es/contracts/LIC_00002/2024
URL:https://contratero.es/contracts/LIC_00002/2024
STATUS:CONFIRMED
BEGIN:VALARM
TRIGGER:-P1D
ACTION:DISPLAY
DESCRIPTION:Recordatorio: Solución unificada de servicio
END:VALARM
END:VEVENT
END:VCALENDAR