BEGIN:VCALENDAR
VERSION:2.0
PRODID:-//Contratero//ES
CALSCALE:GREGORIAN
METHOD:PUBLISH
BEGIN:VEVENT
UID:LIC_00002/2026@contratero.es
DTSTAMP:20260421T202110Z
DTSTART:20260206T235959
DTEND:20260207T005959
SUMMARY:Cierre: Renovació dels llicenciaments manteniments de tots
DESCRIPTION:Renovació dels llicenciaments manteniments de tots els components de la infraestructura de Hyper-V.\\n\\nOrganismo: Consejería Delegada de Servicios Informáticos Local de Menorca\, S.A.\\n\\nVer en Contratero: https://contratero.es/contracts/LIC_00002/2026
URL:https://contratero.es/contracts/LIC_00002/2026
STATUS:CONFIRMED
BEGIN:VALARM
TRIGGER:-P1D
ACTION:DISPLAY
DESCRIPTION:Recordatorio: Renovació dels llicenciaments 
END:VALARM
END:VEVENT
END:VCALENDAR