BEGIN:VCALENDAR
VERSION:2.0
PRODID:-//Contratero//ES
CALSCALE:GREGORIAN
METHOD:PUBLISH
BEGIN:VEVENT
UID:LIC_00003/2026@contratero.es
DTSTAMP:20260422T150811Z
DTSTART:20260213T235959
DTEND:20260214T005959
SUMMARY:Cierre: Servei de consultoria\, assistència tècnica i supor
DESCRIPTION:Servei de consultoria\, assistència tècnica i suport especialitzat en la tramitació electrònica de la contractació de SILME\, S.A. a través de la Plataforma de Contractació del Sector Públic.\\n\\nOrganismo: Consejería Delegada de Servicios Informáticos Local de Menorca\, S.A.\\n\\nVer en Contratero: https://contratero.es/contracts/LIC_00003/2026
URL:https://contratero.es/contracts/LIC_00003/2026
STATUS:CONFIRMED
BEGIN:VALARM
TRIGGER:-P1D
ACTION:DISPLAY
DESCRIPTION:Recordatorio: Servei de consultoria\, assistè
END:VALARM
END:VEVENT
END:VCALENDAR