BEGIN:VCALENDAR
VERSION:2.0
PRODID:-//Contratero//ES
CALSCALE:GREGORIAN
METHOD:PUBLISH
BEGIN:VEVENT
UID:LIC_00005/2024@contratero.es
DTSTAMP:20260422T174917Z
DTSTART:20240620T235959
DTEND:20240621T005959
SUMMARY:Cierre: Adquisición de un sistema informático para la gest
DESCRIPTION:Adquisición de un sistema informático para la gestión de nóminas y recursos humanos para SILME\, S.A.\, las Administraciones Locales de Menorca y sus entes dependientes de las cuales SILME\, S.A. ostenta...\\n\\nOrganismo: Consejería Delegada de Servicios Informáticos Local de Menorca\, S.A.\\n\\nVer en Contratero: https://contratero.es/contracts/LIC_00005/2024
URL:https://contratero.es/contracts/LIC_00005/2024
STATUS:CONFIRMED
BEGIN:VALARM
TRIGGER:-P1D
ACTION:DISPLAY
DESCRIPTION:Recordatorio: Adquisición de un sistema info
END:VALARM
END:VEVENT
END:VCALENDAR