BEGIN:VCALENDAR
VERSION:2.0
PRODID:-//Contratero//ES
CALSCALE:GREGORIAN
METHOD:PUBLISH
BEGIN:VEVENT
UID:LIC_00006/2024@contratero.es
DTSTAMP:20260423T171031Z
DTSTART:20240924T235959
DTEND:20240925T005959
SUMMARY:Cierre: Adquisició del producte Manage Engine- Vulnerabili
DESCRIPTION:Adquisició del producte Manage Engine- Vulnerability Manager Plus Enterprise\\n\\nOrganismo: Consejería Delegada de Servicios Informáticos Local de Menorca\, S.A.\\n\\nVer en Contratero: https://contratero.es/contracts/LIC_00006/2024
URL:https://contratero.es/contracts/LIC_00006/2024
STATUS:CONFIRMED
BEGIN:VALARM
TRIGGER:-P1D
ACTION:DISPLAY
DESCRIPTION:Recordatorio: Adquisició del producte Manage
END:VALARM
END:VEVENT
END:VCALENDAR