BEGIN:VCALENDAR
VERSION:2.0
PRODID:-//Contratero//ES
CALSCALE:GREGORIAN
METHOD:PUBLISH
BEGIN:VEVENT
UID:LO338001-LA001733-23-0608@contratero.es
DTSTAMP:20260424T203900Z
DTSTART:20231127T235959
DTEND:20231128T005959
SUMMARY:Cierre: SENSIBILIZACIÓN: Servicio para la puesta en marcha
DESCRIPTION:SENSIBILIZACIÓN: Servicio para la puesta en marcha de una campaña de sensibilización y concienciación\, que incluya un plan de comunicación y difusión\, acciones de voluntariado ambiental y custodia del...\\n\\nOrganismo: Consejo de Gobierno Insular del Cabildo Insular de Tenerife\\n\\nVer en Contratero: https://contratero.es/contracts/LO338001-LA001733-23-0608
URL:https://contratero.es/contracts/LO338001-LA001733-23-0608
STATUS:CONFIRMED
BEGIN:VALARM
TRIGGER:-P1D
ACTION:DISPLAY
DESCRIPTION:Recordatorio: SENSIBILIZACIÓN: Servicio para
END:VALARM
END:VEVENT
END:VCALENDAR