BEGIN:VCALENDAR
VERSION:2.0
PRODID:-//Contratero//ES
CALSCALE:GREGORIAN
METHOD:PUBLISH
BEGIN:VEVENT
UID:LO338001-LA001733-24-0278@contratero.es
DTSTAMP:20260419T135750Z
DTSTART:20240102T235959
DTEND:20240103T005959
SUMMARY:Cierre: PLATAFORMA DIGITAL: Contratación del servicio para
DESCRIPTION:PLATAFORMA DIGITAL: Contratación del servicio para el desarrollo\, implementación y puesta en marcha de una Plataforma Digital Turística para la isla de Tenerife.\\n\\nOrganismo: Consejo de Gobierno Insular del Cabildo Insular de Tenerife\\n\\nVer en Contratero: https://contratero.es/contracts/LO338001-LA001733-24-0278
URL:https://contratero.es/contracts/LO338001-LA001733-24-0278
STATUS:CONFIRMED
BEGIN:VALARM
TRIGGER:-P1D
ACTION:DISPLAY
DESCRIPTION:Recordatorio: PLATAFORMA DIGITAL: Contrataci
END:VALARM
END:VEVENT
END:VCALENDAR