BEGIN:VCALENDAR
VERSION:2.0
PRODID:-//Contratero//ES
CALSCALE:GREGORIAN
METHOD:PUBLISH
BEGIN:VEVENT
UID:M200042@contratero.es
DTSTAMP:20260424T155958Z
DTSTART:20201203T235959
DTEND:20201204T005959
SUMMARY:Cierre: Servicio emisión y venta de entradas de los espect
DESCRIPTION:Servicio emisión y venta de entradas de los espectáculos y otros ingresos de las unidades del Instituto Nacional de las Artes Escénicas y de la Música y gestión de herramientas de fidelización y web.\\n\\nOrganismo: Dirección General del Instituto Nacional de las Artes Escénicas y de la Música\\n\\nVer en Contratero: https://contratero.es/contracts/M200042
URL:https://contratero.es/contracts/M200042
STATUS:CONFIRMED
BEGIN:VALARM
TRIGGER:-P1D
ACTION:DISPLAY
DESCRIPTION:Recordatorio: Servicio emisión y venta de en
END:VALARM
END:VEVENT
END:VCALENDAR