BEGIN:VCALENDAR
VERSION:2.0
PRODID:-//Contratero//ES
CALSCALE:GREGORIAN
METHOD:PUBLISH
BEGIN:VEVENT
UID:M210113@contratero.es
DTSTAMP:20260421T222148Z
DTSTART:20220131T235959
DTEND:20220201T005959
SUMMARY:Cierre: Servicio de control de calidad de las colecciones 
DESCRIPTION:Servicio de control de calidad de las colecciones digitales de Biblioteca Digital Hispánica de la Biblioteca Nacional de España (BNE)\\n\\nOrganismo: Dirección General de la Biblioteca Nacional\\n\\nVer en Contratero: https://contratero.es/contracts/M210113
URL:https://contratero.es/contracts/M210113
STATUS:CONFIRMED
BEGIN:VALARM
TRIGGER:-P1D
ACTION:DISPLAY
DESCRIPTION:Recordatorio: Servicio de control de calidad
END:VALARM
END:VEVENT
END:VCALENDAR