BEGIN:VCALENDAR
VERSION:2.0
PRODID:-//Contratero//ES
CALSCALE:GREGORIAN
METHOD:PUBLISH
BEGIN:VEVENT
UID:M220098.@contratero.es
DTSTAMP:20260423T163203Z
DTSTART:20230104T235959
DTEND:20230105T005959
SUMMARY:Cierre: Diseño\, desarrollo\, implementación y puesta en ser
DESCRIPTION:Diseño\, desarrollo\, implementación y puesta en servicio de la nueva aplicación de gestión integral y análisis de datos para el Instituto de la Cinematografía y de las Artes Audiovisuales (ICAA)\\n\\nOrganismo: Dirección General del Instituto de Cinematografía y de las Artes Audiovisuales\\n\\nVer en Contratero: https://contratero.es/contracts/M220098.
URL:https://contratero.es/contracts/M220098.
STATUS:CONFIRMED
BEGIN:VALARM
TRIGGER:-P1D
ACTION:DISPLAY
DESCRIPTION:Recordatorio: Diseño\, desarrollo\, implementa
END:VALARM
END:VEVENT
END:VCALENDAR