BEGIN:VCALENDAR
VERSION:2.0
PRODID:-//Contratero//ES
CALSCALE:GREGORIAN
METHOD:PUBLISH
BEGIN:VEVENT
UID:M240006A@contratero.es
DTSTAMP:20260421T134659Z
DTSTART:20241104T235959
DTEND:20241105T005959
SUMMARY:Cierre: Plataforma para la creación de contenidos de reali
DESCRIPTION:Plataforma para la creación de contenidos de realidad virtual para los Centros de Excelencia\\n\\nOrganismo: Secretaría General de Formación Profesional\\n\\nVer en Contratero: https://contratero.es/contracts/M240006A
URL:https://contratero.es/contracts/M240006A
STATUS:CONFIRMED
BEGIN:VALARM
TRIGGER:-P1D
ACTION:DISPLAY
DESCRIPTION:Recordatorio: Plataforma para la creación de
END:VALARM
END:VEVENT
END:VCALENDAR