BEGIN:VCALENDAR
VERSION:2.0
PRODID:-//Contratero//ES
CALSCALE:GREGORIAN
METHOD:PUBLISH
BEGIN:VEVENT
UID:MAD-124/2025@contratero.es
DTSTAMP:20260419T164111Z
DTSTART:20250826T235959
DTEND:20250827T005959
SUMMARY:Cierre: Tic-Evolución Del Software De Adquisición De Datos
DESCRIPTION:Tic-Evolución Del Software De Adquisición De Datos Del Sistema De Control De Carros Portaequipajes Del Aeropuerto Adolfo Suárez Madrid-Barajas\\n\\nOrganismo: Aena. Dirección del Aeropuerto Adolfo Suárez Madrid-Barajas\\n\\nVer en Contratero: https://contratero.es/contracts/MAD-124/2025
URL:https://contratero.es/contracts/MAD-124/2025
STATUS:CONFIRMED
BEGIN:VALARM
TRIGGER:-P1D
ACTION:DISPLAY
DESCRIPTION:Recordatorio: Tic-Evolución Del Software De 
END:VALARM
END:VEVENT
END:VCALENDAR