BEGIN:VCALENDAR
VERSION:2.0
PRODID:-//Contratero//ES
CALSCALE:GREGORIAN
METHOD:PUBLISH
BEGIN:VEVENT
UID:MAD-149/2025@contratero.es
DTSTAMP:20260423T100722Z
DTSTART:20251013T235959
DTEND:20251014T005959
SUMMARY:Cierre: Suministro E Instalación De Equipos De Medida Para
DESCRIPTION:Suministro E Instalación De Equipos De Medida Para La Red De Estaciones De Vigilancia De La Calidad Del Aire (Redair) Del Aeropuerto\\n\\nOrganismo: Aena. Dirección del Aeropuerto Adolfo Suárez Madrid-Barajas\\n\\nVer en Contratero: https://contratero.es/contracts/MAD-149/2025
URL:https://contratero.es/contracts/MAD-149/2025
STATUS:CONFIRMED
BEGIN:VALARM
TRIGGER:-P1D
ACTION:DISPLAY
DESCRIPTION:Recordatorio: Suministro E Instalación De Eq
END:VALARM
END:VEVENT
END:VCALENDAR