BEGIN:VCALENDAR
VERSION:2.0
PRODID:-//Contratero//ES
CALSCALE:GREGORIAN
METHOD:PUBLISH
BEGIN:VEVENT
UID:MAD-181/2025@contratero.es
DTSTAMP:20260421T002148Z
DTSTART:20251103T235959
DTEND:20251104T005959
SUMMARY:Cierre: Soma-Suministro\, Instalación Y Configuración De Mo
DESCRIPTION:Soma-Suministro\, Instalación Y Configuración De Modulo De Tarjetas Stackboard (Ref.9308) Para Analizador De Particulas Met One Bam 1020 En Radair 2\\n\\nOrganismo: Aena. Dirección del Aeropuerto Adolfo Suárez Madrid-Barajas\\n\\nVer en Contratero: https://contratero.es/contracts/MAD-181/2025
URL:https://contratero.es/contracts/MAD-181/2025
STATUS:CONFIRMED
BEGIN:VALARM
TRIGGER:-P1D
ACTION:DISPLAY
DESCRIPTION:Recordatorio: Soma-Suministro\, Instalación Y
END:VALARM
END:VEVENT
END:VCALENDAR