BEGIN:VCALENDAR
VERSION:2.0
PRODID:-//Contratero//ES
CALSCALE:GREGORIAN
METHOD:PUBLISH
BEGIN:VEVENT
UID:MAD-2024-19-12-GOBIERNO-DEL-DATO-Y-ANALITICA@contratero.es
DTSTAMP:20260420T100004Z
DTSTART:20250228T235959
DTEND:20250301T005959
SUMMARY:Cierre: Desarrollo\, implantación y explotación de capacida
DESCRIPTION:Desarrollo\, implantación y explotación de capacidades en Gobierno del Dato\, Analítica de Datos\, Inteligencia Artificial e Hiperautomatización en NAVANTIA.\\n\\nOrganismo: Comité de Dirección Corporativo de Navantia S.A.\, S.M.E.\\n\\nVer en Contratero: https://contratero.es/contracts/MAD-2024-19-12-GOBIERNO-DEL-DATO-Y-ANALITICA
URL:https://contratero.es/contracts/MAD-2024-19-12-GOBIERNO-DEL-DATO-Y-ANALITICA
STATUS:CONFIRMED
BEGIN:VALARM
TRIGGER:-P1D
ACTION:DISPLAY
DESCRIPTION:Recordatorio: Desarrollo\, implantación y exp
END:VALARM
END:VEVENT
END:VCALENDAR