BEGIN:VCALENDAR
VERSION:2.0
PRODID:-//Contratero//ES
CALSCALE:GREGORIAN
METHOD:PUBLISH
BEGIN:VEVENT
UID:MAD-65/2022@contratero.es
DTSTAMP:20260420T205412Z
DTSTART:20220422T235959
DTEND:20220423T005959
SUMMARY:Cierre: Servicio De Administración Y Mantenimiento H24 De 
DESCRIPTION:Servicio De Administración Y Mantenimiento H24 De Los Sistemas Scada Wonderware Del Aeropuerto Adolfo Suárez Madrid-Barajas\\n\\nOrganismo: Aena. Dirección de Contratación\\n\\nVer en Contratero: https://contratero.es/contracts/MAD-65/2022
URL:https://contratero.es/contracts/MAD-65/2022
STATUS:CONFIRMED
BEGIN:VALARM
TRIGGER:-P1D
ACTION:DISPLAY
DESCRIPTION:Recordatorio: Servicio De Administración Y M
END:VALARM
END:VEVENT
END:VCALENDAR