BEGIN:VCALENDAR
VERSION:2.0
PRODID:-//Contratero//ES
CALSCALE:GREGORIAN
METHOD:PUBLISH
BEGIN:VEVENT
UID:MM/2025/000063@contratero.es
DTSTAMP:20260420T140743Z
DTSTART:20250526T235959
DTEND:20250527T005959
SUMMARY:Cierre: Servicio de plataforma concienciación en seguridad
DESCRIPTION:Servicio de plataforma concienciación en seguridad 2025-2028\\n\\nOrganismo: Dirección General de Mutua Montañesa\\n\\nVer en Contratero: https://contratero.es/contracts/MM/2025/000063
URL:https://contratero.es/contracts/MM/2025/000063
STATUS:CONFIRMED
BEGIN:VALARM
TRIGGER:-P1D
ACTION:DISPLAY
DESCRIPTION:Recordatorio: Servicio de plataforma concien
END:VALARM
END:VEVENT
END:VCALENDAR