BEGIN:VCALENDAR
VERSION:2.0
PRODID:-//Contratero//ES
CALSCALE:GREGORIAN
METHOD:PUBLISH
BEGIN:VEVENT
UID:MM/2025/000131@contratero.es
DTSTAMP:20260421T072229Z
DTSTART:20251103T235959
DTEND:20251104T005959
SUMMARY:Cierre: servicio SAP rises/4HANA cloud base edition para M
DESCRIPTION:servicio SAP rises/4HANA cloud base edition para Mutua Montañesa\\n\\nOrganismo: Dirección General de Mutua Montañesa\\n\\nVer en Contratero: https://contratero.es/contracts/MM/2025/000131
URL:https://contratero.es/contracts/MM/2025/000131
STATUS:CONFIRMED
BEGIN:VALARM
TRIGGER:-P1D
ACTION:DISPLAY
DESCRIPTION:Recordatorio: servicio SAP rises/4HANA cloud
END:VALARM
END:VEVENT
END:VCALENDAR