BEGIN:VCALENDAR
VERSION:2.0
PRODID:-//Contratero//ES
CALSCALE:GREGORIAN
METHOD:PUBLISH
BEGIN:VEVENT
UID:MNTB005_20@contratero.es
DTSTAMP:20260423T062641Z
DTSTART:20201209T235959
DTEND:20201210T005959
SUMMARY:Cierre: Contratación del Servicio de Monitorización Web pa
DESCRIPTION:Contratación del Servicio de Monitorización Web para la Fundación Colección Thyssen-Bornemisza\, F.S.P.\\n\\nOrganismo: Fundación Colección Thyssen Bornemisza\\n\\nVer en Contratero: https://contratero.es/contracts/MNTB005_20
URL:https://contratero.es/contracts/MNTB005_20
STATUS:CONFIRMED
BEGIN:VALARM
TRIGGER:-P1D
ACTION:DISPLAY
DESCRIPTION:Recordatorio: Contratación del Servicio de M
END:VALARM
END:VEVENT
END:VCALENDAR