BEGIN:VCALENDAR
VERSION:2.0
PRODID:-//Contratero//ES
CALSCALE:GREGORIAN
METHOD:PUBLISH
BEGIN:VEVENT
UID:MNTB23-195@contratero.es
DTSTAMP:20260421T223351Z
DTSTART:20240108T235959
DTEND:20240109T005959
SUMMARY:Cierre: Servicio de Renovación Integral del Sistema de Tel
DESCRIPTION:Servicio de Renovación Integral del Sistema de Telefonía y Prestación de sus Servicios para la Fundación Colección Thyssen-Bornemisza\, F.S.P.\\n\\nOrganismo: Fundación Colección Thyssen Bornemisza\\n\\nVer en Contratero: https://contratero.es/contracts/MNTB23-195
URL:https://contratero.es/contracts/MNTB23-195
STATUS:CONFIRMED
BEGIN:VALARM
TRIGGER:-P1D
ACTION:DISPLAY
DESCRIPTION:Recordatorio: Servicio de Renovación Integra
END:VALARM
END:VEVENT
END:VCALENDAR