BEGIN:VCALENDAR
VERSION:2.0
PRODID:-//Contratero//ES
CALSCALE:GREGORIAN
METHOD:PUBLISH
BEGIN:VEVENT
UID:MRR-C11I3-DGTDSP-7@contratero.es
DTSTAMP:20260419T145436Z
DTSTART:20240214T235959
DTEND:20240215T005959
SUMMARY:Cierre: CSIRT Canarias (CSIRT-CAN)\nContrato mixto de Sumi
DESCRIPTION:CSIRT Canarias (CSIRT-CAN)\nContrato mixto de Suministros y servicios para la creación de un equipo de respuesta a los incidentes de seguridad informática denominado CSIRT-CAN\, a adjudicar mediante pr...\\n\\nOrganismo: Viceconsejería de la Presidencia del Gobierno de Canarias\\n\\nVer en Contratero: https://contratero.es/contracts/MRR-C11I3-DGTDSP-7
URL:https://contratero.es/contracts/MRR-C11I3-DGTDSP-7
STATUS:CONFIRMED
BEGIN:VALARM
TRIGGER:-P1D
ACTION:DISPLAY
DESCRIPTION:Recordatorio: CSIRT Canarias (CSIRT-CAN)\nCo
END:VALARM
END:VEVENT
END:VCALENDAR