BEGIN:VCALENDAR
VERSION:2.0
PRODID:-//Contratero//ES
CALSCALE:GREGORIAN
METHOD:PUBLISH
BEGIN:VEVENT
UID:MS180014@contratero.es
DTSTAMP:20260426T004114Z
DTSTART:20181026T235959
DTEND:20181027T005959
SUMMARY:Cierre: Servicio de emisión\, venta de entradas y gestión i
DESCRIPTION:Servicio de emisión\, venta de entradas y gestión informática de la programación de la Filmoteca Nacional.\\n\\nOrganismo: Dirección General del Instituto de Cinematografía y de las Artes Audiovisuales\\n\\nVer en Contratero: https://contratero.es/contracts/MS180014
URL:https://contratero.es/contracts/MS180014
STATUS:CONFIRMED
BEGIN:VALARM
TRIGGER:-P1D
ACTION:DISPLAY
DESCRIPTION:Recordatorio: Servicio de emisión\, venta de 
END:VALARM
END:VEVENT
END:VCALENDAR