BEGIN:VCALENDAR
VERSION:2.0
PRODID:-//Contratero//ES
CALSCALE:GREGORIAN
METHOD:PUBLISH
BEGIN:VEVENT
UID:MS190074@contratero.es
DTSTAMP:20260423T150329Z
DTSTART:20191128T235959
DTEND:20191129T005959
SUMMARY:Cierre: Mantenimiento del sistema Domus en el Museo Nacion
DESCRIPTION:Mantenimiento del sistema Domus en el Museo Nacional del Teatro.\\n\\nOrganismo: Dirección General del Instituto Nacional de las Artes Escénicas y de la Música\\n\\nVer en Contratero: https://contratero.es/contracts/MS190074
URL:https://contratero.es/contracts/MS190074
STATUS:CONFIRMED
BEGIN:VALARM
TRIGGER:-P1D
ACTION:DISPLAY
DESCRIPTION:Recordatorio: Mantenimiento del sistema Domu
END:VALARM
END:VEVENT
END:VCALENDAR