BEGIN:VCALENDAR
VERSION:2.0
PRODID:-//Contratero//ES
CALSCALE:GREGORIAN
METHOD:PUBLISH
BEGIN:VEVENT
UID:MS190084@contratero.es
DTSTAMP:20260423T150328Z
DTSTART:20200109T235959
DTEND:20200110T005959
SUMMARY:Cierre: Servicio de soporte y asistencia técnica de las in
DESCRIPTION:Servicio de soporte y asistencia técnica de las instancias del sistema de gestión bibliotecaria KOHA instaladas en el centro de documentación  de las artes escénicas y de la música dependiente del INA...\\n\\nOrganismo: Dirección General del Instituto Nacional de las Artes Escénicas y de la Música\\n\\nVer en Contratero: https://contratero.es/contracts/MS190084
URL:https://contratero.es/contracts/MS190084
STATUS:CONFIRMED
BEGIN:VALARM
TRIGGER:-P1D
ACTION:DISPLAY
DESCRIPTION:Recordatorio: Servicio de soporte y asistenc
END:VALARM
END:VEVENT
END:VCALENDAR