BEGIN:VCALENDAR
VERSION:2.0
PRODID:-//Contratero//ES
CALSCALE:GREGORIAN
METHOD:PUBLISH
BEGIN:VEVENT
UID:MS200011@contratero.es
DTSTAMP:20260421T140534Z
DTSTART:20201027T235959
DTEND:20201028T005959
SUMMARY:Cierre: Servicio para la gestión de la biblioteca digital 
DESCRIPTION:Servicio para la gestión de la biblioteca digital de los centros y programas dependientes de la Unidad de Acción Educativa Exterior.\\n\\nOrganismo: Dirección General de Planificación y Gestión Educativa\\n\\nVer en Contratero: https://contratero.es/contracts/MS200011
URL:https://contratero.es/contracts/MS200011
STATUS:CONFIRMED
BEGIN:VALARM
TRIGGER:-P1D
ACTION:DISPLAY
DESCRIPTION:Recordatorio: Servicio para la gestión de la
END:VALARM
END:VEVENT
END:VCALENDAR