BEGIN:VCALENDAR
VERSION:2.0
PRODID:-//Contratero//ES
CALSCALE:GREGORIAN
METHOD:PUBLISH
BEGIN:VEVENT
UID:MSA230114@contratero.es
DTSTAMP:20260426T001937Z
DTSTART:20240125T235959
DTEND:20240126T005959
SUMMARY:Cierre: Servicio de control de calidad y carga de coleccio
DESCRIPTION:Servicio de control de calidad y carga de colecciones digitales a la Biblioteca Digital Hispánica de la Biblioteca Nacional de España (BNE)\\n\\nOrganismo: Dirección General de la Biblioteca Nacional\\n\\nVer en Contratero: https://contratero.es/contracts/MSA230114
URL:https://contratero.es/contracts/MSA230114
STATUS:CONFIRMED
BEGIN:VALARM
TRIGGER:-P1D
ACTION:DISPLAY
DESCRIPTION:Recordatorio: Servicio de control de calidad
END:VALARM
END:VEVENT
END:VCALENDAR