BEGIN:VCALENDAR
VERSION:2.0
PRODID:-//Contratero//ES
CALSCALE:GREGORIAN
METHOD:PUBLISH
BEGIN:VEVENT
UID:MT210004@contratero.es
DTSTAMP:20260423T000528Z
DTSTART:20210531T235959
DTEND:20210601T005959
SUMMARY:Cierre: Servicio de administración Workplace.
DESCRIPTION:Servicio de administración Workplace.\\n\\nOrganismo: Consejo de Administración-Comité de Inversiones de la Sociedad Estatal Correos y Telégrafos S.A\\n\\nVer en Contratero: https://contratero.es/contracts/MT210004
URL:https://contratero.es/contracts/MT210004
STATUS:CONFIRMED
BEGIN:VALARM
TRIGGER:-P1D
ACTION:DISPLAY
DESCRIPTION:Recordatorio: Servicio de administración Wor
END:VALARM
END:VEVENT
END:VCALENDAR