BEGIN:VCALENDAR
VERSION:2.0
PRODID:-//Contratero//ES
CALSCALE:GREGORIAN
METHOD:PUBLISH
BEGIN:VEVENT
UID:MT210013@contratero.es
DTSTAMP:20260422T194150Z
DTSTART:20211207T235959
DTEND:20211208T005959
SUMMARY:Cierre: El objeto es la contratación de servicios de apoyo
DESCRIPTION:El objeto es la contratación de servicios de apoyo a la PMO de la Dirección de Tecnología. La PMO tiene que ser la palanca sobre la que se sustente la transformación del modelo de gestión del porfolio\\n\\nOrganismo: Consejo de Administración-Comité de Inversiones de la Sociedad Estatal Correos y Telégrafos S.A\\n\\nVer en Contratero: https://contratero.es/contracts/MT210013
URL:https://contratero.es/contracts/MT210013
STATUS:CONFIRMED
BEGIN:VALARM
TRIGGER:-P1D
ACTION:DISPLAY
DESCRIPTION:Recordatorio: El objeto es la contratación d
END:VALARM
END:VEVENT
END:VCALENDAR