BEGIN:VCALENDAR
VERSION:2.0
PRODID:-//Contratero//ES
CALSCALE:GREGORIAN
METHOD:PUBLISH
BEGIN:VEVENT
UID:MT230004@contratero.es
DTSTAMP:20260423T224314Z
DTSTART:20230130T235959
DTEND:20230131T005959
SUMMARY:Cierre: Mantenimiento y soporte de la Plataforma de virtua
DESCRIPTION:Mantenimiento y soporte de la Plataforma de virtualización puestos de trabajo de Correos y Correos Express.\\n\\nOrganismo: Subdirección de Compras de la Sociedad Estatal Correos y Telégrafos S.A.\\n\\nVer en Contratero: https://contratero.es/contracts/MT230004
URL:https://contratero.es/contracts/MT230004
STATUS:CONFIRMED
BEGIN:VALARM
TRIGGER:-P1D
ACTION:DISPLAY
DESCRIPTION:Recordatorio: Mantenimiento y soporte de la 
END:VALARM
END:VEVENT
END:VCALENDAR