BEGIN:VCALENDAR
VERSION:2.0
PRODID:-//Contratero//ES
CALSCALE:GREGORIAN
METHOD:PUBLISH
BEGIN:VEVENT
UID:MT230305@contratero.es
DTSTAMP:20260421T202650Z
DTSTART:20230619T235959
DTEND:20230620T005959
SUMMARY:Cierre: Contratación del servicio de mantenimiento de la i
DESCRIPTION:Contratación del servicio de mantenimiento de la infraestructura hardware ubicada en los Centros de Procesos de Datos (CPDs) del Grupo Correos compuesto por la Sociedad Estatal Correos y Telégrafos\, S...\\n\\nOrganismo: Subdirección de Compras de la Sociedad Estatal Correos y Telégrafos S.A.\\n\\nVer en Contratero: https://contratero.es/contracts/MT230305
URL:https://contratero.es/contracts/MT230305
STATUS:CONFIRMED
BEGIN:VALARM
TRIGGER:-P1D
ACTION:DISPLAY
DESCRIPTION:Recordatorio: Contratación del servicio de m
END:VALARM
END:VEVENT
END:VCALENDAR