BEGIN:VCALENDAR
VERSION:2.0
PRODID:-//Contratero//ES
CALSCALE:GREGORIAN
METHOD:PUBLISH
BEGIN:VEVENT
UID:MT250002@contratero.es
DTSTAMP:20260422T011802Z
DTSTART:20241202T235959
DTEND:20241203T005959
SUMMARY:Cierre: la contratación de licencias de Appian para el des
DESCRIPTION:la contratación de licencias de Appian para el desarrollo de aplicaciones para gestionar procesos de Negocio y mejorar la eficiencia operativa de los mismos\\n\\nOrganismo: Consejo de Administración-Comité de Inversiones de la Sociedad Estatal Correos y Telégrafos S.A\\n\\nVer en Contratero: https://contratero.es/contracts/MT250002
URL:https://contratero.es/contracts/MT250002
STATUS:CONFIRMED
BEGIN:VALARM
TRIGGER:-P1D
ACTION:DISPLAY
DESCRIPTION:Recordatorio: la contratación de licencias d
END:VALARM
END:VEVENT
END:VCALENDAR