BEGIN:VCALENDAR
VERSION:2.0
PRODID:-//Contratero//ES
CALSCALE:GREGORIAN
METHOD:PUBLISH
BEGIN:VEVENT
UID:MY21/00603/S/62@contratero.es
DTSTAMP:20260424T092435Z
DTSTART:20211117T235959
DTEND:20211118T005959
SUMMARY:Cierre: Suscripción a la base de datos “SCIENCEDIRECT” onl
DESCRIPTION:Suscripción a la base de datos “SCIENCEDIRECT” online\\n\\nOrganismo: Rectorado de la Universitat Politècnica de València\\n\\nVer en Contratero: https://contratero.es/contracts/MY21/00603/S/62
URL:https://contratero.es/contracts/MY21/00603/S/62
STATUS:CONFIRMED
BEGIN:VALARM
TRIGGER:-P1D
ACTION:DISPLAY
DESCRIPTION:Recordatorio: Suscripción a la base de datos
END:VALARM
END:VEVENT
END:VCALENDAR