BEGIN:VCALENDAR
VERSION:2.0
PRODID:-//Contratero//ES
CALSCALE:GREGORIAN
METHOD:PUBLISH
BEGIN:VEVENT
UID:MY22/ASIC/S/47@contratero.es
DTSTAMP:20260423T113555Z
DTSTART:20221220T235959
DTEND:20221221T005959
SUMMARY:Cierre: Adquisición de equipamiento para el Clúster de cál
DESCRIPTION:Adquisición de equipamiento para el Clúster de cálculo científico\\n\\nOrganismo: Rectorado de la Universitat Politècnica de València\\n\\nVer en Contratero: https://contratero.es/contracts/MY22/ASIC/S/47
URL:https://contratero.es/contracts/MY22/ASIC/S/47
STATUS:CONFIRMED
BEGIN:VALARM
TRIGGER:-P1D
ACTION:DISPLAY
DESCRIPTION:Recordatorio: Adquisición de equipamiento pa
END:VALARM
END:VEVENT
END:VCALENDAR