BEGIN:VCALENDAR
VERSION:2.0
PRODID:-//Contratero//ES
CALSCALE:GREGORIAN
METHOD:PUBLISH
BEGIN:VEVENT
UID:MY24/ASIC/SE/36@contratero.es
DTSTAMP:20260422T044912Z
DTSTART:20240920T235959
DTEND:20240921T005959
SUMMARY:Cierre: Servicios de externalización para el desarrollo de
DESCRIPTION:Servicios de externalización para el desarrollo de nuevos aplicativos y mantenimiento de los Sistemas de Información en la modalidad servicios factoría de software de la Universitat Politècnica de Val...\\n\\nOrganismo: Rectorado de la Universitat Politècnica de València\\n\\nVer en Contratero: https://contratero.es/contracts/MY24/ASIC/SE/36
URL:https://contratero.es/contracts/MY24/ASIC/SE/36
STATUS:CONFIRMED
BEGIN:VALARM
TRIGGER:-P1D
ACTION:DISPLAY
DESCRIPTION:Recordatorio: Servicios de externalización p
END:VALARM
END:VEVENT
END:VCALENDAR