BEGIN:VCALENDAR
VERSION:2.0
PRODID:-//Contratero//ES
CALSCALE:GREGORIAN
METHOD:PUBLISH
BEGIN:VEVENT
UID:MY25/ASIC/S/52@contratero.es
DTSTAMP:20260422T174430Z
DTSTART:20250929T235959
DTEND:20250930T005959
SUMMARY:Cierre: Contratación de la plataforma de voto electrónico 
DESCRIPTION:Contratación de la plataforma de voto electrónico en la nube\\n\\nOrganismo: Rectorado de la Universitat Politècnica de València\\n\\nVer en Contratero: https://contratero.es/contracts/MY25/ASIC/S/52
URL:https://contratero.es/contracts/MY25/ASIC/S/52
STATUS:CONFIRMED
BEGIN:VALARM
TRIGGER:-P1D
ACTION:DISPLAY
DESCRIPTION:Recordatorio: Contratación de la plataforma 
END:VALARM
END:VEVENT
END:VCALENDAR