BEGIN:VCALENDAR
VERSION:2.0
PRODID:-//Contratero//ES
CALSCALE:GREGORIAN
METHOD:PUBLISH
BEGIN:VEVENT
UID:MY25/ASIC/SE/68@contratero.es
DTSTAMP:20260422T004615Z
DTSTART:20251117T235959
DTEND:20251118T005959
SUMMARY:Cierre: Instalación de una nueva plataforma de datos abier
DESCRIPTION:Instalación de una nueva plataforma de datos abiertos basado en el software CKAN y la migración de los Datasets de la UPV\\n\\nOrganismo: Rectorado de la Universitat Politècnica de València\\n\\nVer en Contratero: https://contratero.es/contracts/MY25/ASIC/SE/68
URL:https://contratero.es/contracts/MY25/ASIC/SE/68
STATUS:CONFIRMED
BEGIN:VALARM
TRIGGER:-P1D
ACTION:DISPLAY
DESCRIPTION:Recordatorio: Instalación de una nueva plata
END:VALARM
END:VEVENT
END:VCALENDAR