BEGIN:VCALENDAR
VERSION:2.0
PRODID:-//Contratero//ES
CALSCALE:GREGORIAN
METHOD:PUBLISH
BEGIN:VEVENT
UID:MY26/SGE/S/21@contratero.es
DTSTAMP:20260421T153353Z
DTSTART:20260506T235959
DTEND:20260507T005959
SUMMARY:Cierre: Renovación suscripción y servicios de actualizacio
DESCRIPTION:Renovación suscripción y servicios de actualizaciones y soporte a LIFERAY DXP ENTERPRISE SUBSCRIPCION\\n\\nOrganismo: Rectorado de la Universitat Politècnica de València\\n\\nVer en Contratero: https://contratero.es/contracts/MY26/SGE/S/21
URL:https://contratero.es/contracts/MY26/SGE/S/21
STATUS:CONFIRMED
BEGIN:VALARM
TRIGGER:-P1D
ACTION:DISPLAY
DESCRIPTION:Recordatorio: Renovación suscripción y servi
END:VALARM
END:VEVENT
END:VCALENDAR