BEGIN:VCALENDAR
VERSION:2.0
PRODID:-//Contratero//ES
CALSCALE:GREGORIAN
METHOD:PUBLISH
BEGIN:VEVENT
UID:N202000016@contratero.es
DTSTAMP:20260422T225438Z
DTSTART:20210322T235959
DTEND:20210323T005959
SUMMARY:Cierre: Prestación del Servicio de Asistencia Técnica Info
DESCRIPTION:Prestación del Servicio de Asistencia Técnica Informática para la División de Sistemas de Información de MC MUTUAL\\n\\nOrganismo: Dirección General de la Mutual Midat Cyclops\, Mutua Colaboradora con la Seguridad Social\, nº 1\\n\\nVer en Contratero: https://contratero.es/contracts/N202000016
URL:https://contratero.es/contracts/N202000016
STATUS:CONFIRMED
BEGIN:VALARM
TRIGGER:-P1D
ACTION:DISPLAY
DESCRIPTION:Recordatorio: Prestación del Servicio de Asi
END:VALARM
END:VEVENT
END:VCALENDAR