BEGIN:VCALENDAR
VERSION:2.0
PRODID:-//Contratero//ES
CALSCALE:GREGORIAN
METHOD:PUBLISH
BEGIN:VEVENT
UID:N202100810@contratero.es
DTSTAMP:20260423T201857Z
DTSTART:20220411T235959
DTEND:20220412T005959
SUMMARY:Cierre: Herramienta de gestión\, envío y seguimiento de ema
DESCRIPTION:Herramienta de gestión\, envío y seguimiento de emailings dirigidos a empresas mutualistas\, asesores\, autónomos y trabajadores de MC MUTUAL.\\n\\nOrganismo: Dirección General de la Mutual Midat Cyclops\, Mutua Colaboradora con la Seguridad Social\, nº 1\\n\\nVer en Contratero: https://contratero.es/contracts/N202100810
URL:https://contratero.es/contracts/N202100810
STATUS:CONFIRMED
BEGIN:VALARM
TRIGGER:-P1D
ACTION:DISPLAY
DESCRIPTION:Recordatorio: Herramienta de gestión\, envío 
END:VALARM
END:VEVENT
END:VCALENDAR