BEGIN:VCALENDAR
VERSION:2.0
PRODID:-//Contratero//ES
CALSCALE:GREGORIAN
METHOD:PUBLISH
BEGIN:VEVENT
UID:N202300319@contratero.es
DTSTAMP:20260426T004218Z
DTSTART:20230602T235959
DTEND:20230603T005959
SUMMARY:Cierre: Subscripción de licencias software Biteable para M
DESCRIPTION:Subscripción de licencias software Biteable para MC MUTUAL\\n\\nOrganismo: Dirección General de la Mutual Midat Cyclops\, Mutua Colaboradora con la Seguridad Social\, nº 1\\n\\nVer en Contratero: https://contratero.es/contracts/N202300319
URL:https://contratero.es/contracts/N202300319
STATUS:CONFIRMED
BEGIN:VALARM
TRIGGER:-P1D
ACTION:DISPLAY
DESCRIPTION:Recordatorio: Subscripción de licencias soft
END:VALARM
END:VEVENT
END:VCALENDAR