BEGIN:VCALENDAR
VERSION:2.0
PRODID:-//Contratero//ES
CALSCALE:GREGORIAN
METHOD:PUBLISH
BEGIN:VEVENT
UID:N202400024@contratero.es
DTSTAMP:20260424T145039Z
DTSTART:20240219T235959
DTEND:20240220T005959
SUMMARY:Cierre: Suscripción de la licencia software del producto S
DESCRIPTION:Suscripción de la licencia software del producto Solid Framework Developer para MC MUTUAL\\n\\nOrganismo: Dirección General de la Mutual Midat Cyclops\, Mutua Colaboradora con la Seguridad Social\, nº 1\\n\\nVer en Contratero: https://contratero.es/contracts/N202400024
URL:https://contratero.es/contracts/N202400024
STATUS:CONFIRMED
BEGIN:VALARM
TRIGGER:-P1D
ACTION:DISPLAY
DESCRIPTION:Recordatorio: Suscripción de la licencia sof
END:VALARM
END:VEVENT
END:VCALENDAR