BEGIN:VCALENDAR
VERSION:2.0
PRODID:-//Contratero//ES
CALSCALE:GREGORIAN
METHOD:PUBLISH
BEGIN:VEVENT
UID:N202400489@contratero.es
DTSTAMP:20260423T170910Z
DTSTART:20240726T235959
DTEND:20240727T005959
SUMMARY:Cierre: Suscripción de la Plataforma Altiria 360 de envío 
DESCRIPTION:Suscripción de la Plataforma Altiria 360 de envío de SMS para MC MUTUAL\\n\\nOrganismo: Dirección General de la Mutual Midat Cyclops\, Mutua Colaboradora con la Seguridad Social\, nº 1\\n\\nVer en Contratero: https://contratero.es/contracts/N202400489
URL:https://contratero.es/contracts/N202400489
STATUS:CONFIRMED
BEGIN:VALARM
TRIGGER:-P1D
ACTION:DISPLAY
DESCRIPTION:Recordatorio: Suscripción de la Plataforma A
END:VALARM
END:VEVENT
END:VCALENDAR