BEGIN:VCALENDAR
VERSION:2.0
PRODID:-//Contratero//ES
CALSCALE:GREGORIAN
METHOD:PUBLISH
BEGIN:VEVENT
UID:N202400768@contratero.es
DTSTAMP:20260424T064725Z
DTSTART:20241202T235959
DTEND:20241203T005959
SUMMARY:Cierre: Servicio de implementación de una solución para la
DESCRIPTION:Servicio de implementación de una solución para la formación y concienciación en ciberseguridad a los empleados de MC MUTUAL.\\n\\nOrganismo: Dirección General de la Mutual Midat Cyclops\, Mutua Colaboradora con la Seguridad Social\, nº 1\\n\\nVer en Contratero: https://contratero.es/contracts/N202400768
URL:https://contratero.es/contracts/N202400768
STATUS:CONFIRMED
BEGIN:VALARM
TRIGGER:-P1D
ACTION:DISPLAY
DESCRIPTION:Recordatorio: Servicio de implementación de 
END:VALARM
END:VEVENT
END:VCALENDAR