BEGIN:VCALENDAR
VERSION:2.0
PRODID:-//Contratero//ES
CALSCALE:GREGORIAN
METHOD:PUBLISH
BEGIN:VEVENT
UID:N202500369@contratero.es
DTSTAMP:20260420T095615Z
DTSTART:20250708T235959
DTEND:20250709T005959
SUMMARY:Cierre: Suscripción de licencias software del producto Can
DESCRIPTION:Suscripción de licencias software del producto Canva Pro para MC MUTUAL\\n\\nOrganismo: Dirección General de la Mutual Midat Cyclops\, Mutua Colaboradora con la Seguridad Social\, nº 1\\n\\nVer en Contratero: https://contratero.es/contracts/N202500369
URL:https://contratero.es/contracts/N202500369
STATUS:CONFIRMED
BEGIN:VALARM
TRIGGER:-P1D
ACTION:DISPLAY
DESCRIPTION:Recordatorio: Suscripción de licencias softw
END:VALARM
END:VEVENT
END:VCALENDAR