BEGIN:VCALENDAR
VERSION:2.0
PRODID:-//Contratero//ES
CALSCALE:GREGORIAN
METHOD:PUBLISH
BEGIN:VEVENT
UID:N202500375@contratero.es
DTSTAMP:20260425T001130Z
DTSTART:20250723T235959
DTEND:20250724T005959
SUMMARY:Cierre: Servicio de modernización de la plataforma de gest
DESCRIPTION:Servicio de modernización de la plataforma de gestión del puesto de trabajo para MC MUTUAL.\\n\\nOrganismo: Dirección General de la Mutual Midat Cyclops\, Mutua Colaboradora con la Seguridad Social\, nº 1\\n\\nVer en Contratero: https://contratero.es/contracts/N202500375
URL:https://contratero.es/contracts/N202500375
STATUS:CONFIRMED
BEGIN:VALARM
TRIGGER:-P1D
ACTION:DISPLAY
DESCRIPTION:Recordatorio: Servicio de modernización de l
END:VALARM
END:VEVENT
END:VCALENDAR