BEGIN:VCALENDAR
VERSION:2.0
PRODID:-//Contratero//ES
CALSCALE:GREGORIAN
METHOD:PUBLISH
BEGIN:VEVENT
UID:N202500537@contratero.es
DTSTAMP:20260422T080045Z
DTSTART:20251114T235959
DTEND:20251115T005959
SUMMARY:Cierre: Mantenimiento de las licencias software del produc
DESCRIPTION:Mantenimiento de las licencias software del producto IBERDOK para MC MUTUAL\\n\\nOrganismo: Dirección General de la Mutual Midat Cyclops\, Mutua Colaboradora con la Seguridad Social\, nº 1\\n\\nVer en Contratero: https://contratero.es/contracts/N202500537
URL:https://contratero.es/contracts/N202500537
STATUS:CONFIRMED
BEGIN:VALARM
TRIGGER:-P1D
ACTION:DISPLAY
DESCRIPTION:Recordatorio: Mantenimiento de las licencias
END:VALARM
END:VEVENT
END:VCALENDAR