BEGIN:VCALENDAR
VERSION:2.0
PRODID:-//Contratero//ES
CALSCALE:GREGORIAN
METHOD:PUBLISH
BEGIN:VEVENT
UID:N202500553@contratero.es
DTSTAMP:20260423T063014Z
DTSTART:20251126T235959
DTEND:20251127T005959
SUMMARY:Cierre: Mantenimiento de las licencias software de los pro
DESCRIPTION:Mantenimiento de las licencias software de los productos COGNOS de MC MUTUAL\\n\\nOrganismo: Dirección General de la Mutual Midat Cyclops\, Mutua Colaboradora con la Seguridad Social\, nº 1\\n\\nVer en Contratero: https://contratero.es/contracts/N202500553
URL:https://contratero.es/contracts/N202500553
STATUS:CONFIRMED
BEGIN:VALARM
TRIGGER:-P1D
ACTION:DISPLAY
DESCRIPTION:Recordatorio: Mantenimiento de las licencias
END:VALARM
END:VEVENT
END:VCALENDAR