BEGIN:VCALENDAR
VERSION:2.0
PRODID:-//Contratero//ES
CALSCALE:GREGORIAN
METHOD:PUBLISH
BEGIN:VEVENT
UID:N202500585@contratero.es
DTSTAMP:20260420T064619Z
DTSTART:20251216T235959
DTEND:20251217T005959
SUMMARY:Cierre: Servicio de Gestión de los Dominios de Internet de
DESCRIPTION:Servicio de Gestión de los Dominios de Internet de MC MUTUAL\\n\\nOrganismo: Dirección General de la Mutual Midat Cyclops\, Mutua Colaboradora con la Seguridad Social\, nº 1\\n\\nVer en Contratero: https://contratero.es/contracts/N202500585
URL:https://contratero.es/contracts/N202500585
STATUS:CONFIRMED
BEGIN:VALARM
TRIGGER:-P1D
ACTION:DISPLAY
DESCRIPTION:Recordatorio: Servicio de Gestión de los Dom
END:VALARM
END:VEVENT
END:VCALENDAR